BEGIN:VCALENDAR
PRODID:-//eluceo/ical//2.0/EN
VERSION:2.0
CALSCALE:GREGORIAN
BEGIN:VEVENT
UID:ee02a621f9521067ab327bc30bfb36e6
DTSTAMP:20260420T132334Z
SUMMARY:Olma-Dinner für Rotary Clubs der Region
DESCRIPTION:Webbplats: https://www.olma-messen.ch/de/messen/olma/fuer-besuc
 her/uebersicht
URL:https://rotaryfreudenberg.ch/sv/agenda/show/200226
DTSTART;TZID=Europe/Zurich:20251015T173000
DTEND;TZID=Europe/Zurich:20251015T223000
LOCATION:Treffpunkt: Eingang Sonderschau WOW.WOW.Wallis. (Halle9.1B)
CATEGORIES:Rotary
END:VEVENT
BEGIN:VTIMEZONE
TZID:Europe/Zurich
BEGIN:DAYLIGHT
DTSTART:20251015T173000
TZNAME:CEST
TZOFFSETTO:+0200
TZOFFSETFROM:+0200
END:DAYLIGHT
END:VTIMEZONE
END:VCALENDAR
