BEGIN:VCALENDAR
PRODID:-//eluceo/ical//2.0/EN
VERSION:2.0
CALSCALE:GREGORIAN
BEGIN:VEVENT
UID:ce853989fd69f254377b76441c493196
DTSTAMP:20260425T132356Z
SUMMARY:Einstimmen auf Weihnachten
DESCRIPTION:Conférencier(s): Weihnachtsgeschichte erzählt von einem Schau
 spieler mit Akkordeonbegleitung
URL:https://rotaryfreudenberg.ch/fr/agenda/show/55898
DTSTART;TZID=Europe/Zurich:20151223T120000
DTEND;TZID=Europe/Zurich:20151223T140000
LOCATION:Hotel Einstein
CATEGORIES:Rotary
END:VEVENT
BEGIN:VTIMEZONE
TZID:Europe/Zurich
BEGIN:STANDARD
DTSTART:20151223T120000
TZNAME:CET
TZOFFSETTO:+0100
TZOFFSETFROM:+0100
END:STANDARD
END:VTIMEZONE
END:VCALENDAR
