BEGIN:VCALENDAR
PRODID:-//eluceo/ical//2.0/EN
VERSION:2.0
CALSCALE:GREGORIAN
BEGIN:VEVENT
UID:02f9470bafda4b8ab9487ac479b73a12
DTSTAMP:20260421T102452Z
SUMMARY:Wimpeltausch mit Lions Club St.Gallen
DESCRIPTION:Site internet: http://www.einstein.ch\nConférencier(s): Thomas
  Schirmer\, Lions St.Gallen
URL:https://rotaryfreudenberg.ch/fr/agenda/show/188673
DTSTART;TZID=Europe/Zurich:20250312T121500
DTEND;TZID=Europe/Zurich:20250312T141500
LOCATION:Hotel Einstein\, Berneggstrasse 2\, 9000 St.Gallen\, Schweiz
CATEGORIES:Rotary
END:VEVENT
BEGIN:VTIMEZONE
TZID:Europe/Zurich
BEGIN:STANDARD
DTSTART:20250312T121500
TZNAME:CET
TZOFFSETTO:+0100
TZOFFSETFROM:+0100
END:STANDARD
END:VTIMEZONE
END:VCALENDAR
