BEGIN:VCALENDAR
PRODID:-//eluceo/ical//2.0/EN
VERSION:2.0
CALSCALE:GREGORIAN
BEGIN:VEVENT
UID:eadba007117d490821f8a61a40b874ae
DTSTAMP:20260424T011723Z
SUMMARY:Navigating the 21st Century: Zur Neuverknüpfung von Wirtschaft und
  Gesellschaft
DESCRIPTION:Site internet: http://www.einstein.ch\nConférencier(s): Stepha
 n Sigrist\, Think Tank W.I.R.E    
URL:https://rotaryfreudenberg.ch/fr/agenda/show/145608
DTSTART;TZID=Europe/Zurich:20220914T121500
DTEND;TZID=Europe/Zurich:20220914T134500
LOCATION:Hotel Einstein\, Dachstock\, Berneggstrasse 2\, 9000 St.Gallen
CATEGORIES:Rotary
END:VEVENT
BEGIN:VTIMEZONE
TZID:Europe/Zurich
BEGIN:DAYLIGHT
DTSTART:20220914T121500
TZNAME:CEST
TZOFFSETTO:+0200
TZOFFSETFROM:+0200
END:DAYLIGHT
END:VTIMEZONE
END:VCALENDAR
