BEGIN:VCALENDAR
PRODID:-//eluceo/ical//2.0/EN
VERSION:2.0
CALSCALE:GREGORIAN
BEGIN:VEVENT
UID:bd2ba180a3e9cdcc106fa7819dc1f9c0
DTSTAMP:20260424T031746Z
SUMMARY:Plant based - zwischen Ökologie und Gesundheit
DESCRIPTION:Site internet: http://www.einstein.ch\nConférencier(s): Christ
 of\nZüger\, CEO der Züger Frischkäse AG    
URL:https://rotaryfreudenberg.ch/fr/agenda/show/145605
DTSTART;TZID=Europe/Zurich:20220907T121500
DTEND;TZID=Europe/Zurich:20220907T134500
LOCATION:Hotel Einstein\, Dachstock\, Berneggstrasse 2\, 9000 St.Gallen
CATEGORIES:Rotary
END:VEVENT
BEGIN:VTIMEZONE
TZID:Europe/Zurich
BEGIN:DAYLIGHT
DTSTART:20220907T121500
TZNAME:CEST
TZOFFSETTO:+0200
TZOFFSETFROM:+0200
END:DAYLIGHT
END:VTIMEZONE
END:VCALENDAR
