BEGIN:VCALENDAR
PRODID:-//eluceo/ical//2.0/EN
VERSION:2.0
CALSCALE:GREGORIAN
BEGIN:VEVENT
UID:f321c062539ea9c1caaaf292a1e502c9
DTSTAMP:20260421T222227Z
SUMMARY:NEU: Innovationspark Ost\; Lunch-on-the-spot
DESCRIPTION:Conférencier(s): Hans Ebinger\, Innovationspark Ost    
URL:https://rotaryfreudenberg.ch/fr/agenda/show/145596
DTSTART;TZID=Europe/Zurich:20220831T120000
DTEND;TZID=Europe/Zurich:20220831T140000
LOCATION:Treffpunkt Startfeld / Piazza
CATEGORIES:Rotary
END:VEVENT
BEGIN:VTIMEZONE
TZID:Europe/Zurich
BEGIN:DAYLIGHT
DTSTART:20220831T120000
TZNAME:CEST
TZOFFSETTO:+0200
TZOFFSETFROM:+0200
END:DAYLIGHT
END:VTIMEZONE
END:VCALENDAR
