BEGIN:VCALENDAR
PRODID:-//eluceo/ical//2.0/EN
VERSION:2.0
CALSCALE:GREGORIAN
BEGIN:VEVENT
UID:907cfcb702ae63bd67299450826b1a04
DTSTAMP:20260422T021814Z
SUMMARY:Lunch on the spot: OLMA Baustelle
DESCRIPTION:Conférencier(s): Partnerinnen- und Partneranlass mit Anmeldung
URL:https://rotaryfreudenberg.ch/fr/agenda/show/140535
DTSTART;TZID=Europe/Zurich:20220615T120000
DTEND;TZID=Europe/Zurich:20220615T140000
LOCATION:OLMA Baustelle
CATEGORIES:Rotary
END:VEVENT
BEGIN:VTIMEZONE
TZID:Europe/Zurich
BEGIN:DAYLIGHT
DTSTART:20220615T120000
TZNAME:CEST
TZOFFSETTO:+0200
TZOFFSETFROM:+0200
END:DAYLIGHT
END:VTIMEZONE
END:VCALENDAR
