BEGIN:VCALENDAR
PRODID:-//eluceo/ical//2.0/EN
VERSION:2.0
CALSCALE:GREGORIAN
BEGIN:VEVENT
UID:b85e7420507dd0576346cb894dee2fa3
DTSTAMP:20260422T021437Z
SUMMARY:Collaborative Law Practice
DESCRIPTION:Site internet: http://www.einstein.ch\nConférencier(s): RA Dr.
  iur. Alfred Jung\, KB Lawyers    
URL:https://rotaryfreudenberg.ch/fr/agenda/show/140531
DTSTART;TZID=Europe/Zurich:20220518T121500
DTEND;TZID=Europe/Zurich:20220518T134500
LOCATION:Hotel Einstein\, Berneggstrasse 2\, 9000 St.Gallen
CATEGORIES:Rotary
END:VEVENT
BEGIN:VTIMEZONE
TZID:Europe/Zurich
BEGIN:DAYLIGHT
DTSTART:20220518T121500
TZNAME:CEST
TZOFFSETTO:+0200
TZOFFSETFROM:+0200
END:DAYLIGHT
END:VTIMEZONE
END:VCALENDAR
