BEGIN:VCALENDAR
PRODID:-//eluceo/ical//2.0/EN
VERSION:2.0
CALSCALE:GREGORIAN
BEGIN:VEVENT
UID:80ae9b46c04382273caedb2a7c5538ec
DTSTAMP:20260422T054246Z
SUMMARY:Parteilose – Fluch oder Segen?
DESCRIPTION:Site internet: http://www.einstein.ch\nConférencier(s): Dr. ph
 il Lineo Devecchi\,\nLeiter Zentrum für Gemeinden\, OST – Ostschweizer 
 Fachhochschule    
URL:https://rotaryfreudenberg.ch/fr/agenda/show/140525
DTSTART;TZID=Europe/Zurich:20220420T121500
DTEND;TZID=Europe/Zurich:20220420T134500
LOCATION:Hotel Einstein\, Berneggstrasse 2\, 9000 St.Gallen
CATEGORIES:Rotary
END:VEVENT
BEGIN:VTIMEZONE
TZID:Europe/Zurich
BEGIN:DAYLIGHT
DTSTART:20220420T121500
TZNAME:CEST
TZOFFSETTO:+0200
TZOFFSETFROM:+0200
END:DAYLIGHT
END:VTIMEZONE
END:VCALENDAR
