BEGIN:VCALENDAR
PRODID:-//eluceo/ical//2.0/EN
VERSION:2.0
CALSCALE:GREGORIAN
BEGIN:VEVENT
UID:06c8d02f9f49cec2d3758545212d6ef7
DTSTAMP:20260422T054130Z
SUMMARY:Unsere Rotaryclub-Stiftung: Was und wie machen wir das mit dem Geld
 ?
DESCRIPTION:Site internet: http://www.einstein.ch\nConférencier(s): Rot. A
 ndreas Deschwanden\, RC Oberer Bodensee    
URL:https://rotaryfreudenberg.ch/fr/agenda/show/136830
DTSTART;TZID=Europe/Zurich:20220330T121500
DTEND;TZID=Europe/Zurich:20220330T134500
LOCATION:Hotel Einstein\, Berneggstrasse 2\, 9000 St.Gallen
CATEGORIES:Rotary
END:VEVENT
BEGIN:VTIMEZONE
TZID:Europe/Zurich
BEGIN:DAYLIGHT
DTSTART:20220330T121500
TZNAME:CEST
TZOFFSETTO:+0200
TZOFFSETFROM:+0200
END:DAYLIGHT
END:VTIMEZONE
END:VCALENDAR
