BEGIN:VCALENDAR
PRODID:-//eluceo/ical//2.0/EN
VERSION:2.0
CALSCALE:GREGORIAN
BEGIN:VEVENT
UID:98dcf565614791da7aab8bdfb91585a8
DTSTAMP:20260424T110541Z
SUMMARY:Afghanistan – Eindrücke und Perspektiven
DESCRIPTION:Site internet: http://www.einstein.ch\nConférencier(s): Adrian
  Widmer\, ehem. Nachrichtenoffizier ISA\, Leiter HUMINT Team PRT\nKunduz\,
  Afghanistan    
URL:https://rotaryfreudenberg.ch/fr/agenda/show/136829
DTSTART;TZID=Europe/Zurich:20220323T121500
DTEND;TZID=Europe/Zurich:20220323T134500
LOCATION:Hotel Einstein\, Berneggstrasse 2\, 9000 St.Gallen
CATEGORIES:Rotary
END:VEVENT
BEGIN:VTIMEZONE
TZID:Europe/Zurich
BEGIN:STANDARD
DTSTART:20220323T121500
TZNAME:CET
TZOFFSETTO:+0100
TZOFFSETFROM:+0100
END:STANDARD
END:VTIMEZONE
END:VCALENDAR
