BEGIN:VCALENDAR
PRODID:-//eluceo/ical//2.0/EN
VERSION:2.0
CALSCALE:GREGORIAN
BEGIN:VEVENT
UID:7bb927120015a1c86c4f65034271bebe
DTSTAMP:20260422T060341Z
SUMMARY:Blickpunkt «HSG»\; Lunch-on-the-Spot und Partnerinnen- und Partne
 ranlass
DESCRIPTION:Conférencier(s): Rot. Bernhard Ehrenzeller\, Rektor Universit
 ät\nSt.Gallen    
URL:https://rotaryfreudenberg.ch/fr/agenda/show/136825
DTSTART;TZID=Europe/Zurich:20220302T121500
DTEND;TZID=Europe/Zurich:20220302T134500
LOCATION:im Square an der Universität St.Gallen
CATEGORIES:Rotary
END:VEVENT
BEGIN:VTIMEZONE
TZID:Europe/Zurich
BEGIN:STANDARD
DTSTART:20220302T121500
TZNAME:CET
TZOFFSETTO:+0100
TZOFFSETFROM:+0100
END:STANDARD
END:VTIMEZONE
END:VCALENDAR
