BEGIN:VCALENDAR
PRODID:-//eluceo/ical//2.0/EN
VERSION:2.0
CALSCALE:GREGORIAN
BEGIN:VEVENT
UID:2beb9e9fdf2eff8516757fa5ba917e9d
DTSTAMP:20260422T075022Z
SUMMARY:Tandem 50+
DESCRIPTION:Site internet: http://www.einstein.ch\nConférencier(s): René 
 Hüppi\, Programmleiter Tandem 50+    
URL:https://rotaryfreudenberg.ch/fr/agenda/show/136821
DTSTART;TZID=Europe/Zurich:20220209T121500
DTEND;TZID=Europe/Zurich:20220209T134500
LOCATION:Hotel Einstein\, Berneggstrasse 2\, 9000 St.Gallen
CATEGORIES:Rotary
END:VEVENT
BEGIN:VTIMEZONE
TZID:Europe/Zurich
BEGIN:STANDARD
DTSTART:20220209T121500
TZNAME:CET
TZOFFSETTO:+0100
TZOFFSETFROM:+0100
END:STANDARD
END:VTIMEZONE
END:VCALENDAR
