BEGIN:VCALENDAR
PRODID:-//eluceo/ical//2.0/EN
VERSION:2.0
CALSCALE:GREGORIAN
BEGIN:VEVENT
UID:0bc4fef602d58f478903570e82f0ac8c
DTSTAMP:20260422T100826Z
SUMMARY:Spass und Motivation als FCSG-Präsident
DESCRIPTION:Site internet: http://www.einstein.ch\nConférencier(s): Kateri
 na\nMistakidis\, Moderatorin Radio FM1    
URL:https://rotaryfreudenberg.ch/fr/agenda/show/132898
DTSTART;TZID=Europe/Zurich:20211208T121500
DTEND;TZID=Europe/Zurich:20211208T134500
LOCATION:Hotel Einstein\, Berneggstrasse 2\, 9000 St.Gallen
CATEGORIES:Rotary
END:VEVENT
BEGIN:VTIMEZONE
TZID:Europe/Zurich
BEGIN:STANDARD
DTSTART:20211208T121500
TZNAME:CET
TZOFFSETTO:+0100
TZOFFSETFROM:+0100
END:STANDARD
END:VTIMEZONE
END:VCALENDAR
