BEGIN:VCALENDAR
PRODID:-//eluceo/ical//2.0/EN
VERSION:2.0
CALSCALE:GREGORIAN
BEGIN:VEVENT
UID:a307f008dd319170ea8fcc6d4c518ab1
DTSTAMP:20260422T134936Z
SUMMARY:Plauderlunch
DESCRIPTION:Site internet: http://www.einstein.ch
URL:https://rotaryfreudenberg.ch/fr/agenda/show/132891
DTSTART;TZID=Europe/Zurich:20211020T121500
DTEND;TZID=Europe/Zurich:20211020T134500
LOCATION:Hotel Einstein\, Berneggstrasse 2\, 9000 St.Gallen
CATEGORIES:Rotary
END:VEVENT
BEGIN:VTIMEZONE
TZID:Europe/Zurich
BEGIN:DAYLIGHT
DTSTART:20211020T121500
TZNAME:CEST
TZOFFSETTO:+0200
TZOFFSETFROM:+0200
END:DAYLIGHT
END:VTIMEZONE
END:VCALENDAR
