BEGIN:VCALENDAR
PRODID:-//eluceo/ical//2.0/EN
VERSION:2.0
CALSCALE:GREGORIAN
BEGIN:VEVENT
UID:7f2041d6984e540eaa6ad024117ccd59
DTSTAMP:20260422T134736Z
SUMMARY:Wie läuft eine Bundesratssitzung ab
DESCRIPTION:Site internet: http://www.einstein.ch\nConférencier(s): alt\nB
 undesrat Hans-Rudolf Merz    
URL:https://rotaryfreudenberg.ch/fr/agenda/show/132888
DTSTART;TZID=Europe/Zurich:20211006T121500
DTEND;TZID=Europe/Zurich:20211006T134500
LOCATION:Hotel Einstein\, Berneggstrasse 2\, 9000 St.Gallen
CATEGORIES:Rotary
END:VEVENT
BEGIN:VTIMEZONE
TZID:Europe/Zurich
BEGIN:DAYLIGHT
DTSTART:20211006T121500
TZNAME:CEST
TZOFFSETTO:+0200
TZOFFSETFROM:+0200
END:DAYLIGHT
END:VTIMEZONE
END:VCALENDAR
