BEGIN:VCALENDAR
PRODID:-//eluceo/ical//2.0/EN
VERSION:2.0
CALSCALE:GREGORIAN
BEGIN:VEVENT
UID:e090e4f3c6eae442642b710c32b31fbc
DTSTAMP:20260420T131744Z
SUMMARY:Klassifikationsvortrag: Wald im (Klima)Wandel der Zeit Lunch-on-the
  spot und Partnerinnen- und Partneranlass mit Anmeldung
DESCRIPTION:Conférencier(s): Rot. Raphael Lüchinger
URL:https://rotaryfreudenberg.ch/fr/agenda/show/128699
DTSTART;TZID=Europe/Zurich:20210915T121500
DTEND;TZID=Europe/Zurich:20210915T134500
LOCATION:Gründermoos
CATEGORIES:Rotary
END:VEVENT
BEGIN:VTIMEZONE
TZID:Europe/Zurich
BEGIN:DAYLIGHT
DTSTART:20210915T121500
TZNAME:CEST
TZOFFSETTO:+0200
TZOFFSETFROM:+0200
END:DAYLIGHT
END:VTIMEZONE
END:VCALENDAR
