BEGIN:VCALENDAR
PRODID:-//eluceo/ical//2.0/EN
VERSION:2.0
CALSCALE:GREGORIAN
BEGIN:VEVENT
UID:127cf3f22455a723324088bbf410822f
DTSTAMP:20260420T090029Z
SUMMARY:7. Rotary Speeddating 2025
DESCRIPTION:
URL:https://rotaryfreudenberg.ch/de/agenda/show/188474
DTSTART;TZID=Europe/Zurich:20250305T093000
DTEND;TZID=Europe/Zurich:20250305T134500
LOCATION:Kantonsschule am Burggraben St. Gallen
CATEGORIES:Rotary
END:VEVENT
BEGIN:VTIMEZONE
TZID:Europe/Zurich
BEGIN:STANDARD
DTSTART:20250305T093000
TZNAME:CET
TZOFFSETTO:+0100
TZOFFSETFROM:+0100
END:STANDARD
END:VTIMEZONE
END:VCALENDAR
