BEGIN:VCALENDAR
PRODID:-//eluceo/ical//2.0/EN
VERSION:2.0
CALSCALE:GREGORIAN
BEGIN:VEVENT
UID:1a7240b1d48188e4d47835cba138c12a
DTSTAMP:20260422T130848Z
SUMMARY:Hands-on auf dem Waldegg-Biketrail
DESCRIPTION:Webseite: https://www.waldeggtrail.ch\nReferenten/innen: Hands-
 on auf dem Waldegg-Biketrail (in «heimatlichen Gefilden»\, nämlich in d
 er Region Freudenberg). 
URL:https://rotaryfreudenberg.ch/de/agenda/show/182178
DTSTART;TZID=Europe/Zurich:20240921T083000
DTEND;TZID=Europe/Zurich:20240921T160000
LOCATION:Hands-on auf dem Waldegg-Biketrail
CATEGORIES:Rotary
END:VEVENT
BEGIN:VTIMEZONE
TZID:Europe/Zurich
BEGIN:DAYLIGHT
DTSTART:20240921T083000
TZNAME:CEST
TZOFFSETTO:+0200
TZOFFSETFROM:+0200
END:DAYLIGHT
END:VTIMEZONE
END:VCALENDAR
