BEGIN:VCALENDAR
PRODID:-//eluceo/ical//2.0/EN
VERSION:2.0
CALSCALE:GREGORIAN
BEGIN:VEVENT
UID:ab562f225a5f800067318ec8a42a8c8b
DTSTAMP:20260424T035849Z
SUMMARY:Sicherheitsanlagen der Zukunft
DESCRIPTION:Webseite: http://www.einstein.ch\nReferenten/innen: Daniel Büc
 hler\,\nRegionalleiter Securiton AG    
URL:https://rotaryfreudenberg.ch/de/agenda/show/153644
DTSTART;TZID=Europe/Zurich:20230322T121500
DTEND;TZID=Europe/Zurich:20230322T134500
LOCATION:Hotel Einstein\, Berneggstrasse 2\, 9000 St.Gallen
CATEGORIES:Rotary
END:VEVENT
BEGIN:VTIMEZONE
TZID:Europe/Zurich
BEGIN:STANDARD
DTSTART:20230322T121500
TZNAME:CET
TZOFFSETTO:+0100
TZOFFSETFROM:+0100
END:STANDARD
END:VTIMEZONE
END:VCALENDAR
