BEGIN:VCALENDAR
PRODID:-//eluceo/ical//2.0/EN
VERSION:2.0
CALSCALE:GREGORIAN
BEGIN:VEVENT
UID:86e2868d3c8fe731bedab9047d58eaf0
DTSTAMP:20260424T071225Z
SUMMARY:Im Zauber der Sterne\; Partnerinnen- und Partneranlass
DESCRIPTION:Referenten/innen: Ewgeni Obreschkow\, dipl. Phys. ETH\, ehemali
 ger Präsident\nder Sternwarte Antares Gossau    
URL:https://rotaryfreudenberg.ch/de/agenda/show/153634
DTSTART;TZID=Europe/Zurich:20230116T183000
DTEND;TZID=Europe/Zurich:20230116T200000
LOCATION:Restaurant Candela St.Gallen
CATEGORIES:Rotary
END:VEVENT
BEGIN:VTIMEZONE
TZID:Europe/Zurich
BEGIN:STANDARD
DTSTART:20230116T183000
TZNAME:CET
TZOFFSETTO:+0100
TZOFFSETFROM:+0100
END:STANDARD
END:VTIMEZONE
END:VCALENDAR
