BEGIN:VCALENDAR
PRODID:-//eluceo/ical//2.0/EN
VERSION:2.0
CALSCALE:GREGORIAN
BEGIN:VEVENT
UID:d26ca71164407b173fbb49f712c1f84d
DTSTAMP:20260424T072654Z
SUMMARY:Lebenslauf Sabina Misoch
DESCRIPTION:Webseite: http://www.einstein.ch\nReferenten/innen: Rot. Sabina
  Misoch\n\n\n\n
URL:https://rotaryfreudenberg.ch/de/agenda/show/153630
DTSTART;TZID=Europe/Zurich:20230104T121500
DTEND;TZID=Europe/Zurich:20230104T134500
LOCATION:Hotel Einstein\, Berneggstrasse 2\, 9000 St.Gallen
CATEGORIES:Rotary
END:VEVENT
BEGIN:VTIMEZONE
TZID:Europe/Zurich
BEGIN:STANDARD
DTSTART:20230104T121500
TZNAME:CET
TZOFFSETTO:+0100
TZOFFSETFROM:+0100
END:STANDARD
END:VTIMEZONE
END:VCALENDAR
